BEGIN:VCALENDAR
VERSION:2.0
PRODID:http://bistummainz.de
BEGIN:VEVENT
UID:1fef822d-3e28-11f1-b8c9-0242ac11002b-1776502800000-de
DTSTAMP:20260422T084908Z
DTSTART:20260418T090000Z
DTEND:20260502T140000Z
SUMMARY;LANGUAGE=de:Stoffgeschichten - über global bewegte Materialien
DESCRIPTION;LANGUAGE=de:Mode bewegt uns alle - jeden Tag!
IMAGE;VALUE=URI;DISPLAY=BADGE;FMTTYPE=image/jpeg:http://bistummainz.de/export/sites/bistum/weltkirche/.galleries/bilder/Stoffgeschichten.png
END:VEVENT
END:VCALENDAR
