BEGIN:VCALENDAR
VERSION:2.0
PRODID:http://bistummainz.de
BEGIN:VEVENT
UID:23e251a3-1d5b-11f1-bae7-0242ac11002b-1780333200000-de
DTSTAMP:20260311T150110Z
DTSTART:20260601T170000Z
SUMMARY;LANGUAGE=de:schwarz.orange.bunt - Zusammen sind wir Kolping
DESCRIPTION;LANGUAGE=de:Erlebnisabend rund um das Leben und Wirken von Adolph Kolping\nmit Klemens Euler\, Geschäftsführer Kolping Diözesanverband Mainz
LOCATION;LANGUAGE=de:Pater-Delp-Haus\, Dieburg\, Steinstraße 5\, 64807 Dieburg
IMAGE;VALUE=URI;DISPLAY=BADGE;FMTTYPE=image/jpeg:http://bistummainz.de/export/sites/bistum/region-suedhessen/pfarrei/dieburger-land/.galleries/bilder/St.-Peter-und-Paul-Dieburg/Logo-Kolpingfamilie.jpg
END:VEVENT
END:VCALENDAR
