BEGIN:VCALENDAR
VERSION:2.0
PRODID:http://bistummainz.de
BEGIN:VEVENT
UID:250cc0b8-8f00-11f0-b9fa-0242ac11002b-1779975000000-de
DTSTAMP:20250911T111203Z
DTSTART:20260528T133000Z
DTEND:20260528T141500Z
SUMMARY;LANGUAGE=de:Kinderchor - Probe
LOCATION;LANGUAGE=de:St. Bonifatius\, Bad Nauheim\, Zanderstraße 13\, Zanderstraße 13\, 61231 Bad Nauheim\, Deutschland
END:VEVENT
END:VCALENDAR
