BEGIN:VCALENDAR
VERSION:2.0
PRODID:http://bistummainz.de
BEGIN:VEVENT
UID:2ab759f1-1d59-11f1-bae7-0242ac11002b-1778245200000-de
DTSTAMP:20260311T144703Z
DTSTART:20260508T130000Z
SUMMARY;LANGUAGE=de:Kolping-Oldies
DESCRIPTION;LANGUAGE=de:Kolping-Oldies - Anmeldung bis Di. 05.05.26 bei KB Willi Enders\, Tel: 5741.\nKosten für Kaffee und Kuchen 5 €
LOCATION;LANGUAGE=de:Pater-Delp-Haus\, Dieburg\, Steinstraße 5\, 64807 Dieburg
IMAGE;VALUE=URI;DISPLAY=BADGE;FMTTYPE=image/jpeg:http://bistummainz.de/export/sites/bistum/region-suedhessen/pfarrei/dieburger-land/.galleries/bilder/St.-Peter-und-Paul-Dieburg/Logo-Kolpingfamilie.jpg
END:VEVENT
END:VCALENDAR
