BEGIN:VCALENDAR
VERSION:2.0
PRODID:http://bistummainz.de
BEGIN:VEVENT
UID:30b99eda-16ec-11f1-bae7-0242ac11002b-1778000400000-de
DTSTAMP:20260303T103151Z
DTSTART:20260505T170000Z
DTEND:20260505T191500Z
SUMMARY;LANGUAGE=de:Literaturgespräch am Abend "Der Spiegelkasten" Christoph Poschenrieder,Diogenes 201, 224 Seiten
LOCATION;LANGUAGE=de:Pfarrzentrum St. Michael Großer Saal oben Bürstadt\, St.-Michael-Str.\, 3\, 68642 Bürstadt\, Deutschland
END:VEVENT
END:VCALENDAR
