BEGIN:VCALENDAR
VERSION:2.0
PRODID:http://bistummainz.de
BEGIN:VEVENT
UID:353657da-3faa-11f1-b8c9-0242ac11002b-1777798800000-de
DTSTAMP:20260424T065249Z
DTSTART:20260503T090000Z
SUMMARY;LANGUAGE=de:Familiengottesdienst
DESCRIPTION;LANGUAGE=de:Herzliche Einladung zum Familiengottesdienst mit dem Thema „Wegweiser im Leben“ in St. Franziskus/Lerchenberg
LOCATION;LANGUAGE=de:Kirche St. Franziskus\, Mainz-Lerchenberg\, Rubensallee 3\, 55127 Mainz - Lerchenberg
IMAGE;VALUE=URI;DISPLAY=BADGE;FMTTYPE=image/jpeg:http://bistummainz.de/export/sites/bistum/region-rheinhessen/pfarrei/mainz-st-clara/.galleries/MZ-Mitte-West-Themenbilder/FamGoDi-3.5.2026_Wegweiser-2.jpeg
END:VEVENT
END:VCALENDAR
