BEGIN:VCALENDAR
VERSION:2.0
PRODID:http://bistummainz.de
BEGIN:VEVENT
UID:3c077e90-3e3c-11f1-b8c9-0242ac11002b-1779366600000-de
DTSTAMP:20260422T111305Z
DTSTART:20260521T123000Z
DTEND:20260521T130000Z
SUMMARY;LANGUAGE=de:Orte des Glaubens
LOCATION;LANGUAGE=de:St. Bonifatius\, Bad Nauheim\, Zanderstraße 13\, 61231 Bad Nauheim\, Deutschland
END:VEVENT
END:VCALENDAR
