BEGIN:VCALENDAR
VERSION:2.0
PRODID:http://bistummainz.de
BEGIN:VEVENT
UID:410b7e86-3c92-11f1-b8c9-0242ac11002b-1777816800000-de
DTSTAMP:20260420T082347Z
DTSTART:20260503T140000Z
DTEND:20260503T160000Z
SUMMARY;LANGUAGE=de:4 Hände & 4 Füße
DESCRIPTION;LANGUAGE=de:Am Sonntag\, den 3. Mai 2026\, lädt die Kirche St. Bonifatius um 16 Uhr zu einem außergewöhnlichen Orgelkonzert unter dem Titel „4 Hände & 4 Füße“ ein.\n–Martina Pungitore und Eva-Maria Anton musizieren gemeinsam an der Link-Orgel-ein selten zu hörendes Klangerlebnis von besonderer Virtuosität und klanglicher Fülle.\nDas Programm spannt einen weiten Bogen durch mehrere Jahrhunderte der Musikgeschichte. Den Auftakt bildet die prachtvolle „Sonata Pian e Forte“ aus den „Sacrae symphoniae“ von Giovanni Gabrieli – ein Meisterwerk venezianischer Mehrchörigkeit. Es folgt ein selten gespieltes Konzert für zwei Orgeln von Josef Blanco\, das den dialogischen Charakter des Programms eindrucksvoll unterstreicht.\nMit der romantischen „Orgelfantasie mit Fuge“ von Carl August Eduard Filitz sowie der groß angelegten Sonate d-Moll op. 30 von Gustav Merkel stehen gewichtige Werke der Orgelromantik auf dem Programm.\nEinen besonderen Akzent setzen die Bearbeitungen zweier Sonaten von Wolfgang Amadeus Mozart für Orgel zu vier Händen\, die mit Eleganz und Spielfreude glänzen. Ergänzt wird das Programm durch klangprächtige Opernmusik: Das berühmte „Bacchanale“ aus „Samson und Dalila“ von Camille Saint-Saëns entfaltet in der Orgelbearbeitung eine mitreißende Wirkung.\nAuch geistliche und zeitgenössische Klangwelten kommen zur Geltung: Variationen über „Vater unser im Himmelreich“ von Christian Gottlob Höpner sowie die eindrucksvollen Stücke „Be Thou My Vision“ und „Encore“ des ungarischen Komponisten Zsolt Gárdony runden das Programm ab.\nDas Konzert verspricht ein farbenreiches Hörerlebnis voller Energie\, Präzision und musikalischem Dialog – ein Fest der Orgelmusik\, bei dem vier Hände und vier Füße zu einem beeindruckenden Klangkörper verschmelzen.\nDie Veranstaltung beginnt um 16:00 Uhr\, Einlass ab 15:30 Uhr\nDer Eintritt ist frei – Spenden werden erbeten.
LOCATION;LANGUAGE=de:Kirche St. Bonifatius\, Bad Nauheim\, Zanderstr. 13\, 61231 Bad Nauheim
IMAGE;VALUE=URI;DISPLAY=BADGE;FMTTYPE=image/jpeg:http://bistummainz.de/export/sites/bistum/region-oberhessen/pfarrei/wetterau-nord/.galleries/bilder/Orgel.jpg
END:VEVENT
END:VCALENDAR
