BEGIN:VCALENDAR
VERSION:2.0
PRODID:http://bistummainz.de
BEGIN:VEVENT
UID:412183d1-33f7-11f1-b8c9-0242ac11002b-1778760000000-de
DTSTAMP:20260409T093406Z
DTSTART:20260514T120000Z
DTEND:20260514T133000Z
SUMMARY;LANGUAGE=de:14:00 bis 15:30 Uhr: Gewalt- und geschlechtersensible Theologien
DESCRIPTION;LANGUAGE=de:Konsequenzen aus Missbrauch und Frauenfeindlichkeit – mit Dr. Regina Heyder\, Theologisch-Pastorales Institut Mainz\, ZdK-Mitglied\, Mainz
LOCATION;LANGUAGE=de:Don-Bosco-Berufsschule\, Schottenanger 10\, 1. OG\, Turnhalle\, 97070 Würzburg
END:VEVENT
END:VCALENDAR
