BEGIN:VCALENDAR
VERSION:2.0
PRODID:http://bistummainz.de
BEGIN:VEVENT
UID:41a7ddff-382d-11f1-b8c9-0242ac11002b-1777219200000-de
DTSTAMP:20260414T181045Z
DTSTART:20260426T160000Z
DTEND:20260426T173000Z
SUMMARY;LANGUAGE=de:Frühjahrskonzert Kolpingkapelle Dortelweil
LOCATION;LANGUAGE=de:St. Marien-Kirche\, Walter-Ender-Platz\, 61118 Bad Vilbel-Dortelweil\, Deutschland
END:VEVENT
END:VCALENDAR
