BEGIN:VCALENDAR
VERSION:2.0
PRODID:http://bistummainz.de
BEGIN:VEVENT
UID:457cf602-fb78-11f0-bae7-0242ac11002b-1785243600000-de
DTSTAMP:20260127T120402Z
DTSTART:20260728T130000Z
DTEND:20260728T160000Z
SUMMARY;LANGUAGE=de:Ökum. Seniorenkreis im ev. Gemeindehaus
END:VEVENT
END:VCALENDAR
