BEGIN:VCALENDAR
VERSION:2.0
PRODID:http://bistummainz.de
BEGIN:VEVENT
UID:465751c5-38c0-11f1-b8c9-0242ac11002b-1778751000000-de
DTSTAMP:20260415T114309Z
DTSTART:20260514T093000Z
DTEND:20260514T103000Z
SUMMARY;LANGUAGE=de:11:30 bis 12:30 Uhr: „Ich darf nicht schweigen“ (Hildegard von Bingen)
DESCRIPTION;LANGUAGE=de:Mut\, Visionen und der Kampf für Gerechtigkeit – Dr. Claudia Sticher\, Schriftstellerin\, Mühlheim/Main
LOCATION;LANGUAGE=de:Hochschule für Musik\, Hofstallstraße 6-8\, Kleiner Saal\, 97070 Würzburg
END:VEVENT
END:VCALENDAR
