BEGIN:VCALENDAR
VERSION:2.0
PRODID:http://bistummainz.de
BEGIN:VEVENT
UID:46ad6dd8-1b80-11f0-bd2e-0242ac11002b-1779373800000-de
DTSTAMP:20250417T113700Z
DTSTART:20260521T143000Z
DTEND:20260521T151500Z
SUMMARY;LANGUAGE=de:Jugendchor - Probe
LOCATION;LANGUAGE=de:St. Bonifatius\, Bad Nauheim\, Zanderstraße 13\, 61231 Bad Nauheim\, Deutschland
END:VEVENT
END:VCALENDAR
