BEGIN:VCALENDAR
VERSION:2.0
PRODID:http://bistummainz.de
BEGIN:VEVENT
UID:4910aca9-3c91-11f1-b8c9-0242ac11002b-1778601600000-de
DTSTAMP:20260420T081651Z
DTSTART:20260512T160000Z
DTEND:20260512T180000Z
SUMMARY;LANGUAGE=de:Workshop zu OpenCms für Fortgeschrittene
DESCRIPTION;LANGUAGE=de:Probleme bei der Arbeit in OpenCms\, Fragen ohne Lösung\, Wünsche nach Optimierung? Mit unserem Workshopangebot möchten wir Ihnen weiterhelfen\, Tipps und Tricks vermitteln und neue Möglichkeiten in OpenCms entdecken. in Jeder dieser zweistündigen Online-Workshopeinheit werden Ihre Fragen anhand von Beispielen oder auch Ihrer Website in der Plattform bearbeitet und besprochen. Gerne können Sie schon bei der Anmeldung erste Fragen mit einreichen.
IMAGE;VALUE=URI;DISPLAY=BADGE;FMTTYPE=image/jpeg:http://bistummainz.de/export/sites/bistum/pressemedien/internet/helpdesk/mercury/.galleries/bilder/pencil-5425957_1920.jpg
END:VEVENT
END:VCALENDAR
