BEGIN:VCALENDAR
VERSION:2.0
PRODID:http://bistummainz.de
BEGIN:VEVENT
UID:4a1ce545-eca2-11f0-bae7-0242ac11002b-1776006000000-de
DTSTAMP:20260108T145702Z
DTSTART:20260412T150000Z
SUMMARY;LANGUAGE=de:Musikalisches Abendgebet in der Kirche Maria Königin
DESCRIPTION;LANGUAGE=de:Das Leben ist eine Melodie. Wie klingt Dein Leben? Wir laden ein zum „Musikalischen Abendgebet“ in Drais.
IMAGE;VALUE=URI;DISPLAY=BADGE;FMTTYPE=image/jpeg:http://bistummainz.de/export/sites/bistum/region-rheinhessen/pfarrei/mainz-st-clara/.galleries/bilder/2026-Musik.-Abendgebet.jpeg
END:VEVENT
END:VCALENDAR
