BEGIN:VCALENDAR
VERSION:2.0
PRODID:http://bistummainz.de
BEGIN:VEVENT
UID:50a85c1b-0458-11f1-bae7-0242ac11002b-1776862800000-de
DTSTAMP:20260207T190758Z
DTSTART:20260422T130000Z
DTEND:20260422T150000Z
SUMMARY;LANGUAGE=de:Bücherei St. Margareta (KÖB) geöffnet
DESCRIPTION;LANGUAGE=de:Willkommen online bei https://www.eopac.net/seckmauern/
LOCATION;LANGUAGE=de:Seckmauern\, Maihohl 5a\, Seckmauern\, 64750 Lützelbach\, Deutschland
END:VEVENT
END:VCALENDAR
