BEGIN:VCALENDAR
VERSION:2.0
PRODID:http://bistummainz.de
BEGIN:VEVENT
UID:52f70f6c-2d2c-11f1-b8c9-0242ac11002b-1776789900000-de
DTSTAMP:20260331T180621Z
DTSTART:20260421T164500Z
DTEND:20260421T174500Z
SUMMARY;LANGUAGE=de:Digitaler Infoabend für KVR Interessierte
DESCRIPTION;LANGUAGE=de:Erstmals bieten wir in diesem Jahr digitale Infoabende für Menschen an\, die sich für das Amt im Kirchenverwaltungsrat (KVR) interessieren oder bereits gewählt sind und sich fundierter informieren möchten.
LOCATION;LANGUAGE=de:Videokonferenz\, BigBluebutton\, 64711 Odenwaldkreis\, Deutschland
END:VEVENT
END:VCALENDAR
