BEGIN:VCALENDAR
VERSION:2.0
PRODID:http://bistummainz.de
BEGIN:VEVENT
UID:5547a662-2f89-11f1-b8c9-0242ac11002b-1778346000000-de
DTSTAMP:20260403T181711Z
DTSTART:20260509T170000Z
SUMMARY;LANGUAGE=de:Oratorium „Messias“ von Händel
DESCRIPTION;LANGUAGE=de:Es wird das Oratorium „Messias“ von Georg Friedrich Händel in der Kirche St. Wolfgang aufgeführt. Eintrittskarten können für einen Preis von 20 - 30 € vorbestellt werden.
LOCATION;LANGUAGE=de:Kirche St. Wolfgang\, Dieburg\, Berliner Straße 35\, 64807 Dieburg
IMAGE;VALUE=URI;DISPLAY=BADGE;FMTTYPE=image/jpeg:http://bistummainz.de/export/sites/bistum/region-suedhessen/pfarrei/dieburger-land/Plakat-Messias-Dieburg-2026.jpg
END:VEVENT
END:VCALENDAR
