BEGIN:VCALENDAR
VERSION:2.0
PRODID:http://bistummainz.de
BEGIN:VEVENT
UID:6a02d74b-37e7-11f1-b8c9-0242ac11002b-1778313600000-de
DTSTAMP:20260414T095048Z
DTSTART:20260509T080000Z
DTEND:20260509T153000Z
SUMMARY;LANGUAGE=de:Aufbruch und Neubeginn – Frühlingswanderung im Feldatal
DESCRIPTION;LANGUAGE=de:Herzlich Willkommen\nzu einer Wanderung durch die Natur im Feldatal mit spirituellen Impulsen zum Thema ‚Aufbrechen‘ auf einer abgeänderten Route der sogenannten Heinzemann-Tour von Ehringshausen nach Nieder-Gemünden (ca. 18 km).\nDatum: Samstag\, 9.Mai 2026\nBeginn: 10.00 Uhr am Bahnhof Ehringshausen\nEnde: ca. 17.30 Uhr an der Gaststätte ‚Holzwurm‘ in Nieder-Gemünden\nBegleitung: Barbara Ruckelshausen und Aegidius Kluth\nAnschließend Möglichkeit zur Einkehr in die Gaststätte.\nFür An- und Abreise sowie für die Tagesverpflegung sind die Teilnehmenden selbst verantwortlich.\nStatt einer Teilnahmegebühr besteht die Möglichkeit einer Spende.
LOCATION;LANGUAGE=de:Start: Bahnhof Ehringshausen\,
IMAGE;VALUE=URI;DISPLAY=BADGE;FMTTYPE=image/jpeg:http://bistummainz.de/export/sites/bistum/bildung/keb/oberhessen/.galleries/bilder/IMG_4519_c_Aegidius-Kluth.jpg
END:VEVENT
END:VCALENDAR
