BEGIN:VCALENDAR
VERSION:2.0
PRODID:http://bistummainz.de
BEGIN:VEVENT
UID:6a76739d-3c1a-11f1-b8c9-0242ac11002b-1777395600000-de
DTSTAMP:20260419T180557Z
DTSTART:20260428T170000Z
DTEND:20260428T190000Z
SUMMARY;LANGUAGE=de:Gemeindeausschuss Gersprenztal
LOCATION;LANGUAGE=de:Reichelsheim\, Kontaktstelle\, Krautweg 26\, 64385 Reichelsheim\, Deutschland
END:VEVENT
END:VCALENDAR
