BEGIN:VCALENDAR
VERSION:2.0
PRODID:http://bistummainz.de
BEGIN:VEVENT
UID:6bacf638-09af-11f1-bae7-0242ac11002b-1779123600000-de
DTSTAMP:20260214T141405Z
DTSTART:20260518T170000Z
DTEND:20260518T180000Z
SUMMARY;LANGUAGE=de:Weggemeinschaft mit Christus
DESCRIPTION;LANGUAGE=de:Die Weggemeinschaft mit Christus lädt ein zum Gebet\, Austausch und Meditieren von Texten aus der Heiligen Schrift. Nächster Termin: 18.08. in der Sakristei der Gnadenkapelle.
LOCATION;LANGUAGE=de:Gnadenkapelle (Wallfahrtskirche)\, Dieburg\, Altstadt 18\, 64807 Dieburg\,
Treffen in der Sakristei
IMAGE;VALUE=URI;DISPLAY=BADGE;FMTTYPE=image/jpeg:http://bistummainz.de/export/sites/bistum/region-suedhessen/pfarrei/dieburger-land/.galleries/bilder/logo_weggemeinschaft.jpg
END:VEVENT
END:VCALENDAR
