BEGIN:VCALENDAR
VERSION:2.0
PRODID:http://bistummainz.de
BEGIN:VEVENT
UID:7072db93-2f84-11f1-b8c9-0242ac11002b-1776240000000-de
DTSTAMP:20260403T174209Z
DTSTART:20260415T080000Z
DTEND:20260415T160000Z
SUMMARY;LANGUAGE=de:KDFB Second-Hand-Basar: Verkauf
DESCRIPTION;LANGUAGE=de:Verkauf von Kleidung\, Büchern\, CDs\, Geschirr und mehr - Kontakt: 0178 498 1898
END:VEVENT
END:VCALENDAR
