BEGIN:VCALENDAR
VERSION:2.0
PRODID:http://bistummainz.de
BEGIN:VEVENT
UID:737351b4-2f81-11f1-b8c9-0242ac11002b-1776441600000-de
DTSTAMP:20260403T172045Z
DTSTART:20260417T160000Z
SUMMARY;LANGUAGE=de:Hambacher Brennesselkerwe 2026
DESCRIPTION;LANGUAGE=de:Heute: Bieranstich und 27. Hambacher Kerwerock mit der Band FUCK. Mehr auf www.brennesselkerwe.de
END:VEVENT
END:VCALENDAR
