BEGIN:VCALENDAR
VERSION:2.0
PRODID:http://bistummainz.de
BEGIN:VEVENT
UID:77f700b4-5116-11ed-857d-0242ac11002b-1679673600000-de
DTSTAMP:20221021T080046Z
DTSTART:20230324T160000Z
DTEND:20230326T110000Z
SUMMARY;LANGUAGE=de:NGM-Wochenende 2023 "Chor"
DESCRIPTION;LANGUAGE=de:Nachdem unser Wochenende der Neuen Geistlichen Musik in seiner bewährten Form nun 3 Jahre in Folge aufgrund der Corona-Pandemie pausieren musste\, legen wir in 2023 mit umso mehr Lust und Vorfreude wieder los. Wir freuen uns mit Dir und Euch Musik live und vor Ort zu machen – und das gleich an zwei verschiedenen Wochenenden: für Chor (24.-26.03.2023) und für Bands/Instrumentalisten (16.-18.06.2023).
END:VEVENT
END:VCALENDAR
