BEGIN:VCALENDAR
VERSION:2.0
PRODID:http://bistummainz.de
BEGIN:VEVENT
UID:7a75a42a-1e46-11f1-bae7-0242ac11002b-1778220900000-de
DTSTAMP:20260312T190547Z
DTSTART:20260508T061500Z
DTEND:20260508T071500Z
SUMMARY;LANGUAGE=de:Yoga für Fortgeschrittene
DESCRIPTION;LANGUAGE=de:Yoga für Fortgeschrittene im Piussaal mit Leah Grindl
LOCATION;LANGUAGE=de:St. Josef\, Brüder-Grimm-Str. 3\, 63069 Offenbach\, Deutschland
END:VEVENT
END:VCALENDAR
