BEGIN:VCALENDAR
VERSION:2.0
PRODID:http://bistummainz.de
BEGIN:VEVENT
UID:7c47baa4-e9a0-11f0-bae7-0242ac11002b-1777966200000-de
DTSTAMP:20260104T190633Z
DTSTART:20260505T073000Z
DTEND:20260505T081500Z
SUMMARY;LANGUAGE=de:Drop In(klusive) - Treff für Familien mit Säuglingen und Kleinkindern
DESCRIPTION;LANGUAGE=de:Das Drop In(klusive) ist ein offener und kostenfreier Treff für alle Familien mit Säuglingen und Kleinkindern\, die sich informieren und austauschen\, gemeinsam mit anderen Eltern und Kindern spielen\, essen und trinken wollen. Der Treff wird von einer Erzieherin geleitet\, die ein offenes Ohr für Fragen\, Hinweise und Anregungen hat.
LOCATION;LANGUAGE=de:Michelstadt\, Sol-i-Luna\, Erbacher Straße 31\, 64720 Michelstadt\, Deutschland
END:VEVENT
END:VCALENDAR
