BEGIN:VCALENDAR
VERSION:2.0
PRODID:http://bistummainz.de
BEGIN:VEVENT
UID:849f9cb4-0b09-11f1-bae7-0242ac11002b-1789300800000-de
DTSTAMP:20260216T073133Z
DTSTART:20260913T120000Z
DTEND:20260913T160000Z
SUMMARY;LANGUAGE=de:Tradition – Handwerk – Kunst aus dem Odenwald
DESCRIPTION;LANGUAGE=de:Der Franziskusgarten im ehemaligen Kapuzinerkloster öffnet wieder seine Pforten.\nThema: Tradition – Handwerk – Kunst aus dem Odenwald\nAusstellung und Demonstration - In Zusammenarbeit mit dem Odenwaldklub\nDie nach dem Sonnengesang des hl. Franziskus gestaltete Gartenanlage bietet Gelegenheit zur Erkundung und zum Verweilen an ausgesuchten Plätzen.
LOCATION;LANGUAGE=de:ehemaliges Kapuzinerkloster\, Dieburg\, Minnefeld 36\, 64807 Dieburg\,
Franziskusgarten
IMAGE;VALUE=URI;DISPLAY=BADGE;FMTTYPE=image/jpeg:http://bistummainz.de/export/sites/bistum/region-suedhessen/pfarrei/dieburger-land/.galleries/bilder/St.-Peter-und-Paul-Dieburg/Gartengruppe.jpg
END:VEVENT
END:VCALENDAR
