BEGIN:VCALENDAR
VERSION:2.0
PRODID:http://bistummainz.de
BEGIN:VEVENT
UID:857fd70f-05ea-11f1-bae7-0242ac11002b-1777051800000-de
DTSTAMP:20260209T190704Z
DTSTART:20260424T173000Z
DTEND:20260424T203000Z
SUMMARY;LANGUAGE=de:Probestunde der Kirchenmusik Seckmauern - Steinbachtaler
DESCRIPTION;LANGUAGE=de:Die Proben finden abwechselnd in Seckmauern und in Breitenbrunn statt. Aktuelle Auskunft gibt es beim Vorsitzenden Christof Hener +49-151-14084840
LOCATION;LANGUAGE=de:Seckmauern\, Maihol 5a\, Seckmauern\, 64750 Lützelbach\, Deutschland
END:VEVENT
END:VCALENDAR
