BEGIN:VCALENDAR
VERSION:2.0
PRODID:http://bistummainz.de
BEGIN:VEVENT
UID:8cd69ffc-a691-11f0-8c75-0242ac11002b-1776879000000-de
DTSTAMP:20251011T110051Z
DTSTART:20260422T173000Z
DTEND:20260422T203000Z
SUMMARY;LANGUAGE=de:Benefizkonzert mit dem Heeresmusikkorps Koblenz
DESCRIPTION;LANGUAGE=de:Mit dem Heeresmusikkorps Koblenz Ltg. Herr Hauptmann Holger Kolodziej im Rheintal-Kongress-Zentrum
LOCATION;LANGUAGE=de:Rheintal-Kongress-Zentrum Bingen\, 55411 Bingen am Rhein\, Deutschland
END:VEVENT
END:VCALENDAR
