BEGIN:VCALENDAR
VERSION:2.0
PRODID:http://bistummainz.de
BEGIN:VEVENT
UID:9227bc3b-1924-11f0-bf50-0242ac11002b-1779125400000-de
DTSTAMP:20250414T113531Z
DTSTART:20260518T173000Z
DTEND:20260518T190000Z
SUMMARY;LANGUAGE=de:Kirchenchorprobe
LOCATION;LANGUAGE=de:St. Bonifatius\, Bad Nauheim\, Zanderstraße 13\, Zanderstraße 13\, 61231 Bad Nauheim\, Deutschland
END:VEVENT
END:VCALENDAR
