BEGIN:VCALENDAR
VERSION:2.0
PRODID:http://bistummainz.de
BEGIN:VEVENT
UID:93e2f2e0-f52e-11f0-bae7-0242ac11002b-1776861000000-de
DTSTAMP:20260119T120124Z
DTSTART:20260422T123000Z
DTEND:20260422T150000Z
SUMMARY;LANGUAGE=de:Seniorennachmittag - Spiele, Rätsel und Geschichten
DESCRIPTION;LANGUAGE=de:mit Walburgis Beyer-Klick
LOCATION;LANGUAGE=de:Büdesheim - Pfarrzentrum\, Pfarrer-Michel-Straße 15\, 55411 Bingen-Büdesheim\, Deutschland
END:VEVENT
END:VCALENDAR
