BEGIN:VCALENDAR
VERSION:2.0
PRODID:http://bistummainz.de
BEGIN:VEVENT
UID:96f71031-f52e-11f0-bae7-0242ac11002b-1777392000000-de
DTSTAMP:20260119T120129Z
DTSTART:20260428T160000Z
DTEND:20260428T180000Z
SUMMARY;LANGUAGE=de:Erste Schritte in der rechtlichen Betreuung
LOCATION;LANGUAGE=de:Caritaszentrum St. Elisabeth\, Schultheiß-Kollei-Straße 25\, 55411 Bingen-Büdesheim\, Deutschland
END:VEVENT
END:VCALENDAR
