BEGIN:VCALENDAR
VERSION:2.0
PRODID:http://bistummainz.de
BEGIN:VEVENT
UID:9782b886-f141-11f0-bae7-0242ac11002b-1777107600000-de
DTSTAMP:20260114T120726Z
DTSTART:20260425T090000Z
DTEND:20260425T110000Z
SUMMARY;LANGUAGE=de:Besinnungsmorgen, Thema: Die Krankensalbung
LOCATION;LANGUAGE=de:Sandbach\, St. Marienhaus\, Am Tiergarten 26\, Sandbach\, 64747 Breuberg\, Deutschland
END:VEVENT
END:VCALENDAR
