BEGIN:VCALENDAR
VERSION:2.0
PRODID:http://bistummainz.de
BEGIN:VEVENT
UID:9a4b5ca4-2ebe-11f1-b8c9-0242ac11002b-1777050000000-de
DTSTAMP:20260402T180559Z
DTSTART:20260424T170000Z
DTEND:20260424T183000Z
SUMMARY;LANGUAGE=de:Abschlussfeier mit den Kommunionfamilien
LOCATION;LANGUAGE=de:Erbach\, Remise großer Saal\, Hauptstraße 42\, 64711 Erbach\, Deutschland
END:VEVENT
END:VCALENDAR
