BEGIN:VCALENDAR
VERSION:2.0
PRODID:http://bistummainz.de
BEGIN:VEVENT
UID:9d279801-2233-11f1-95ea-0242ac11002b-1778320800000-de
DTSTAMP:20260317T190050Z
DTSTART:20260509T100000Z
DTEND:20260509T150000Z
SUMMARY;LANGUAGE=de:Familienpilgern in Kooperation mit der St.-Jakobus-Gesellschaft Rheinland-Pfalz-Saarland e. V.
DESCRIPTION;LANGUAGE=de:Die Natur mit allen Sinnen genießen (...)
LOCATION;LANGUAGE=de:St. Cosmas und Damian\, Neugasse 2\, 55435 Gau-Algesheim\, Deutschland
END:VEVENT
END:VCALENDAR
