BEGIN:VCALENDAR
VERSION:2.0
PRODID:http://bistummainz.de
BEGIN:VEVENT
UID:9db0ab8d-2066-11f1-8dcf-0242ac11002b-1778952600000-de
DTSTAMP:20260315T120052Z
DTSTART:20260516T173000Z
DTEND:20260516T193000Z
SUMMARY;LANGUAGE=de:Erdbeerbowle und Grillwurst im Anschluss an den Gottesdienst
DESCRIPTION;LANGUAGE=de:Im Anschluss an den Gottesdienst laden wir herzlich ein zu Erdbeerbowle und Grillwurst in den Pfarrgarten.
LOCATION;LANGUAGE=de:Gaulsheim - Pfarrhaus - Pfarrgarten \, Mainzer Straße 391\, 55411 Bingen-Gaulsheim\, Deutschland
END:VEVENT
END:VCALENDAR
