BEGIN:VCALENDAR
VERSION:2.0
PRODID:http://bistummainz.de
BEGIN:VEVENT
UID:9ed2222a-0c34-11f1-bae7-0242ac11002b-1780421400000-de
DTSTAMP:20260217T191236Z
DTSTART:20260602T173000Z
DTEND:20260602T190000Z
SUMMARY;LANGUAGE=de:Kirchenchor-Probe
LOCATION;LANGUAGE=de:St. Remigius\, Ober-Mörlen\, Kirchplatz 4\, 61239 Ober-Mörlen\, Deutschland
END:VEVENT
END:VCALENDAR
