BEGIN:VCALENDAR
VERSION:2.0
PRODID:http://bistummainz.de
BEGIN:VEVENT
UID:9f930c7b-333a-11f1-b8c9-0242ac11002b-1777743000000-de
DTSTAMP:20260408T110350Z
DTSTART:20260502T173000Z
DTEND:20260502T183000Z
SUMMARY;LANGUAGE=de:Cantamus singt Abendlieder
LOCATION;LANGUAGE=de:Gau-Algesheim\, St. Laurenzikirche\, Laurenziberg 8\, 55435 Gau-Algesheim\, Deutschland
END:VEVENT
END:VCALENDAR
