BEGIN:VCALENDAR
VERSION:2.0
PRODID:http://bistummainz.de
BEGIN:VEVENT
UID:a019ad90-d468-11f0-b704-0242ac11002b-1778693400000-de
DTSTAMP:20251208T190347Z
DTSTART:20260513T173000Z
DTEND:20260513T190000Z
SUMMARY;LANGUAGE=de:Kontemplationsangebot
LOCATION;LANGUAGE=de:Gau-Algesheim\, Altenzentrum Albertus-Stift (Kapelle)\, Schulstraße 20\, 55435 Gau-Algesheim\, Deutschland
END:VEVENT
END:VCALENDAR
