BEGIN:VCALENDAR
VERSION:2.0
PRODID:http://bistummainz.de
BEGIN:VEVENT
UID:a0df22fb-2100-11f0-bd2e-0242ac11002b-1779978600000-de
DTSTAMP:20250424T113823Z
DTSTART:20260528T143000Z
DTEND:20260528T151500Z
SUMMARY;LANGUAGE=de:Jugendchor - Probe
LOCATION;LANGUAGE=de:St. Bonifatius\, Bad Nauheim\, Zanderstraße 13\, 61231 Bad Nauheim\, Deutschland
END:VEVENT
END:VCALENDAR
