BEGIN:VCALENDAR
VERSION:2.0
PRODID:http://bistummainz.de
BEGIN:VEVENT
UID:a133acdd-2f85-11f1-b8c9-0242ac11002b-1777566600000-de
DTSTAMP:20260403T175040Z
DTSTART:20260430T163000Z
SUMMARY;LANGUAGE=de:Klassik & Klezmer: Konzert zum Frühling
DESCRIPTION;LANGUAGE=de:Tina Braun (Sopran)\, Christian Knatz (Klarinette)\, Klaus Jehlicka (Klavier) spielen auf - Eintritt frei\, Spenden willkommen
END:VEVENT
END:VCALENDAR
