BEGIN:VCALENDAR
VERSION:2.0
PRODID:http://bistummainz.de
BEGIN:VEVENT
UID:a20e3caf-d751-11f0-b704-0242ac11002b-1793779200000-de
DTSTAMP:20251212T115645Z
DTSTART:20261104T080000Z
SUMMARY;LANGUAGE=de:Frauengesprächskreis Schaafheim
LOCATION;LANGUAGE=de:Gruppenraum Schaafheim\, Frankenweg 9\, unter der Kirche\, 64850 Schaafheim
IMAGE;VALUE=URI;DISPLAY=BADGE;FMTTYPE=image/jpeg:http://bistummainz.de/export/sites/bistum/pastoralraum/bachgau/.galleries/morascha/IMG_1550.jpg
END:VEVENT
END:VCALENDAR
