BEGIN:VCALENDAR
VERSION:2.0
PRODID:http://bistummainz.de
BEGIN:VEVENT
UID:a26e6ca1-b03b-11f0-98b0-0242ac11002b-1779919200000-de
DTSTAMP:20251023T181102Z
DTSTART:20260527T220000Z
DTEND:20260528T220000Z
SUMMARY;LANGUAGE=de:Seniorenausflug nach Mainz
LOCATION;LANGUAGE=de:St. Gallus\, Rockenberg\, Kirchplatz\, 35516 Rockenberg\, Deutschland
END:VEVENT
END:VCALENDAR
