BEGIN:VCALENDAR
VERSION:2.0
PRODID:http://bistummainz.de
BEGIN:VEVENT
UID:a5646f4e-341b-11f1-b8c9-0242ac11002b-1777820400000-de
DTSTAMP:20260409T135436Z
DTSTART:20260503T150000Z
SUMMARY;LANGUAGE=de:Singkreis-Maiandacht
DESCRIPTION;LANGUAGE=de:25 Jahre leitet Dieter Haag nun unseren Singkreis St. Josef Babenhausen. Anlass\, eine außerplanmäßige Maiandacht zu gestalten\, Frau Czernek wird die Leitung übernehmen. Der Chor lädt Sie herzlich ein\, am Sonntag\, dem 3. Mai um 17:00 Uhr dabei zu sein.
LOCATION;LANGUAGE=de:Gemeindezentrum Babenhausen\, Bruchweg 11\, 64832 Babenhausen
IMAGE;VALUE=URI;DISPLAY=BADGE;FMTTYPE=image/jpeg:http://bistummainz.de/export/sites/bistum/region-suedhessen/pfarrei/dieburger-land/.galleries/Babenhausen/bilder-babenhausen/maria-breit-den-mantel-aus_by_hans-heindl_pfarrbriefservice.jpg
END:VEVENT
END:VCALENDAR
