BEGIN:VCALENDAR
VERSION:2.0
PRODID:http://bistummainz.de
BEGIN:VEVENT
UID:b3471972-3ce3-11f1-b8c9-0242ac11002b-1778347800000-de
DTSTAMP:20260420T180648Z
DTSTART:20260509T173000Z
DTEND:20260509T200000Z
SUMMARY;LANGUAGE=de:Bildvortrag zur IMASGO-Reise
LOCATION;LANGUAGE=de:Lindenfels\, Burgstraße 41\, 64678 Lindenfels\, Deutschland
END:VEVENT
END:VCALENDAR
