BEGIN:VCALENDAR
VERSION:2.0
PRODID:http://bistummainz.de
BEGIN:VEVENT
UID:b3e99b0a-3ce3-11f1-b8c9-0242ac11002b-1780232400000-de
DTSTAMP:20260420T180649Z
DTSTART:20260531T130000Z
DTEND:20260531T140000Z
SUMMARY;LANGUAGE=de:Stay and pray
END:VEVENT
END:VCALENDAR
