BEGIN:VCALENDAR
VERSION:2.0
PRODID:http://bistummainz.de
BEGIN:VEVENT
UID:b427b936-3f03-11f1-b8c9-0242ac11002b-1777881600000-de
DTSTAMP:20260423T110056Z
DTSTART:20260504T080000Z
DTEND:20260504T100000Z
SUMMARY;LANGUAGE=de:Frauencafé im Caritaszentrum St. Elisabeth
DESCRIPTION;LANGUAGE=de:Austausch und gemütliches Beisammensein (...)
LOCATION;LANGUAGE=de:Caritaszentrum St. Elisabeth 2. Stock\, Schultheiß-Kollei-Straße 25\, 55411 Bingen-Büdesheim\, Deutschland
END:VEVENT
END:VCALENDAR
