BEGIN:VCALENDAR
VERSION:2.0
PRODID:http://bistummainz.de
BEGIN:VEVENT
UID:b45b03b8-2cf1-11f1-b8c9-0242ac11002b-1778317200000-de
DTSTAMP:20260331T110644Z
DTSTART:20260509T090000Z
DTEND:20260509T140000Z
SUMMARY;LANGUAGE=de:Familientag "Click & Play" im Funpark in Bensheim
DESCRIPTION;LANGUAGE=de:Lust auf Action\, spannende Challenges und neue Einblicke in die digitale Welt? Dann kommt am 9. Mai in den Funpark! Es erwartet euch ein Social-Media-Parcours mit Gewinnspiel\, Minigolf\, Gaming und Lasertag for free\, Live-Talks und Vorträge\, Foodtruck und viele weitere Highlights - alles kostenfrei\, aber nur mit Anmeldung!
LOCATION;LANGUAGE=de:Funpark in Bensheim\, Bensheim\, Deutschland
END:VEVENT
END:VCALENDAR
