BEGIN:VCALENDAR
VERSION:2.0
PRODID:http://bistummainz.de
BEGIN:VEVENT
UID:b674bc0b-2cf1-11f1-b8c9-0242ac11002b-1776963600000-de
DTSTAMP:20260331T110648Z
DTSTART:20260423T170000Z
DTEND:20260423T200000Z
SUMMARY;LANGUAGE=de:Treffen Gemeindeausschuss Am Odenwaldlimes
LOCATION;LANGUAGE=de:Vielbrunn\, Ketteler Str. 1\, Vielbrunn\, 64720 Michelstadt\, Deutschland
END:VEVENT
END:VCALENDAR
