BEGIN:VCALENDAR
VERSION:2.0
PRODID:http://bistummainz.de
BEGIN:VEVENT
UID:b7f64a03-faae-11f0-bae7-0242ac11002b-1777104000000-de
DTSTAMP:20260126T120116Z
DTSTART:20260425T080000Z
DTEND:20260425T100000Z
SUMMARY;LANGUAGE=de:IT-Programm für Seniorinnen und Senioren
DESCRIPTION;LANGUAGE=de:Online-Shopping sicher nutzen
LOCATION;LANGUAGE=de:Malteser-Dienststelle\, Bosenheimer Straße 85\, 55545 Bad Kreuznach\, Deutschland
END:VEVENT
END:VCALENDAR
